BEGIN:VCALENDAR
VERSION:2.0
PRODID:-//ChamberMaster//Event Calendar 2.0//EN
METHOD:PUBLISH
X-PUBLISHED-TTL:P3D
REFRESH-INTERVAL:P3D
CALSCALE:GREGORIAN
BEGIN:VEVENT
DTSTART:20170611T190000Z
DTEND:20170611T210000Z
X-MICROSOFT-CDO-ALLDAYEVENT:FALSE
SUMMARY:Shenandoah Valley Bach Festival\, Concert 1
DESCRIPTION:The Shenandoah Valley Bach Festival celebrates 25 years June 11-18\, 2017.  This opening concert features Artistic Director Kenneth Nafziger leading the Festival Orchestra and guest soloists in works by Bach and Mozart.  A pre-concert talk by violin soloist David McCormick begins at 2:15pm.
X-ALT-DESC;FMTTYPE=text/html:The Shenandoah Valley Bach Festival celebrates 25 years June 11-18\, 2017.&nbsp\; This opening concert features Artistic Director Kenneth Nafziger leading the Festival Orchestra and guest soloists in works by Bach and Mozart.&nbsp\; A pre-concert talk by violin soloist David McCormick begins at 2:15pm.&nbsp\;<br />\n<br />\n&nbsp\;
LOCATION:Lehman Auditorium\, EMU Campus 1200 Park Road Harrisonburg\, VA 22802
UID:e.2338.2687
SEQUENCE:3
DTSTAMP:20260419T205409Z
URL:https://chamber.hrchamber.org/events/details/shenandoah-valley-bach-festival-concert-1-2687
END:VEVENT

END:VCALENDAR
