BEGIN:VCALENDAR
VERSION:2.0
PRODID:-//ChamberMaster//Event Calendar 2.0//EN
METHOD:PUBLISH
X-PUBLISHED-TTL:P3D
REFRESH-INTERVAL:P3D
CALSCALE:GREGORIAN
BEGIN:VEVENT
DTSTART:20170612T160000Z
DTEND:20170612T170000Z
X-MICROSOFT-CDO-ALLDAYEVENT:FALSE
SUMMARY:Shenandoah Valley Bach Festival\, Baroque Academy Artist Faculty Recital\, "Bach to Italy"
DESCRIPTION:The Shenandoah Valley Bach Festival celebrates 25 years June 11-18\, 2017.  Members of the Baroque Academy faculty including harpsichordist Arthur Haas and mezzo-soprano Judith Malafronte perform Italian and Italian-inspired music on period instruments.
X-ALT-DESC;FMTTYPE=text/html:The Shenandoah Valley Bach Festival celebrates 25 years June 11-18\, 2017.&nbsp\; Members of the Baroque Academy faculty including harpsichordist Arthur Haas and mezzo-soprano Judith Malafronte perform Italian and Italian-inspired music on period instruments.
LOCATION:First Presbyterian Church\, downtown Harrisonburg
UID:e.2338.2691
SEQUENCE:3
DTSTAMP:20260419T205637Z
URL:https://chamber.hrchamber.org/events/details/shenandoah-valley-bach-festival-baroque-academy-artist-faculty-recital-bach-to-italy-2691
END:VEVENT

END:VCALENDAR
