BEGIN:VCALENDAR
VERSION:2.0
PRODID:-//ChamberMaster//Event Calendar 2.0//EN
METHOD:PUBLISH
X-PUBLISHED-TTL:P3D
REFRESH-INTERVAL:P3D
CALSCALE:GREGORIAN
BEGIN:VEVENT
DTSTART:20170509T150000Z
DTEND:20170509T190000Z
X-MICROSOFT-CDO-ALLDAYEVENT:FALSE
SUMMARY:Serco Public Bloodmobile Drive
DESCRIPTION:Serco is hosting a public bloodmobile at its Harrisonburg location at 1450 Technology Drive on Tuesday\, May 9th from 11 am to 3 pm. Walk-ups are welcome\, but appointments are encouraged. To secure your spot\, visit https://donateblood.vablood.org. Blood supplies are critical across the country   please do your part to help save lives!
X-ALT-DESC;FMTTYPE=text/html:Serco is hosting a public bloodmobile at its Harrisonburg location at 1450 Technology Drive on Tuesday\, May 9th from 11 am to 3 pm. Walk-ups are welcome\, but appointments are encouraged. To secure your spot\, visit https://donateblood.vablood.org. Blood supplies are critical across the country &ndash\; please do your part to help save lives!
LOCATION:1450 Technology Drive Harrisonburg VA 22802
UID:e.2338.2676
SEQUENCE:3
DTSTAMP:20260419T193754Z
URL:https://chamber.hrchamber.org/events/details/serco-public-bloodmobile-drive-2676
END:VEVENT

END:VCALENDAR
