BEGIN:VCALENDAR
VERSION:2.0
PRODID:-//ChamberMaster//Event Calendar 2.0//EN
METHOD:PUBLISH
X-PUBLISHED-TTL:P3D
REFRESH-INTERVAL:P3D
CALSCALE:GREGORIAN
BEGIN:VEVENT
DTSTART:20190625T203000Z
DTEND:20190626T001500Z
X-MICROSOFT-CDO-ALLDAYEVENT:FALSE
SUMMARY:Segra & Pioneer Bank Celebration Event
DESCRIPTION:LIMITED SPACE   only 24 seats available! Connect in-depth with tech users and creators while taking a short ride to Page County. (Preference given to SVTC members but non-members are welcome to register as well until space runs out.)\n\nJoin the Shenandoah Valley Technology Council in helping celebrate fiber and a full suite of telecom services in Page County -- a venture by Segra and Pioneer Bank. Get great odds to win a drone\, be treated to refreshments and BBQ   AND  enjoy a comfy ride there and back while doing high-level networking with SVTC board members.\n\nRaffles will be held for various prizes   the grand-prize is a drone. Each SVTC-registered guest will receive 3 raffle entries instead of one. (This event *is* open to non-SVTC members. )\n\nTransportation Schedule:\n\n\n	4:30 pm   Meet at Harrisonburg Valley Mall\; 4:45 pm   Depart Harrisonburg Valley Mall\n	5:30 pm   Arrive at Stanley Fire Department\; 7:30 pm   Leave Stanley Fire Department\n	8:15 pm   Arrive back at Harrisonburg Valley Mall\n\n\nSpeakers and VIPs: \n\n\n	Mark Reed\, Pioneer Bank CEO\; Loretta Lancaster\, Pioneer Bank CIO\; Bart May\, Segra Sales Engineer\; Jim Nester\, Segra VP Marketing\; Chris Shipman\, Segra VP of Sales\; Liz Lewis\, Page County Economic Development\; Mark Stroupe\, Page County Supervisor\n\n\nFood (by Little Cabin BBQ): \n\n\n	Meatballs\; Smokie sausages\; Chicken salad & pimento cheese finger sandwiches\; Assorted veggies & dip\; Assorted cheese & crackers\; Spinach dip\, hummus & chips\; Assorted fruits.\n\nPreference will be given to SVTC members and we will register them in order of submission. Non-members are invited to register as well\, and we will notify them whether there is a seat for them 2 days prior to the event.  (There are 24 spots. We will notify ALL who register whether they received a seat no later than 2 days prior. First come\, first serve.)\n\n \nRegister for June 15\, 2019 Celebration Event
X-ALT-DESC;FMTTYPE=text/html:<p><span style="color:rgb(255\, 153\, 0)\; font-size:inherit"><strong>LIMITED SPACE &ndash\; only 24 seats available! Connect in-depth with tech users and creators while taking a short ride to Page County. (Preference given to SVTC members but non-members are welcome to register as well until space runs out.)</strong></span></p>\n\n<p><strong>Join the Shenandoah Valley Technology Council in helping celebrate fiber and a full suite of telecom services in Page County -- a venture by Segra and Pioneer Bank. Get great odds to win a drone\, be treated to refreshments and BBQ &hellip\; AND&nbsp\; enjoy a comfy ride there and back&nbsp\;<em>while doing high-level networking with SVTC board members.</em></strong></p>\n\n<p><span style="color:rgb(255\, 153\, 0)\; font-size:inherit">Raffles will be held for various prizes &ndash\; the grand-prize is a drone.</span>&nbsp\;Each SVTC-registered guest will receive&nbsp\;<em>3 raffle entries</em>&nbsp\;instead of one. (This event&nbsp\;<strong>*is*</strong>&nbsp\;open to non-SVTC members. )</p>\n\n<p><strong>Transportation&nbsp\;Schedule:</strong></p>\n\n<ul>\n	<li><strong>4:30 pm</strong>&nbsp\;&ndash\; Meet at Harrisonburg Valley Mall\;&nbsp\;<strong>4:45 pm</strong>&nbsp\;&ndash\; Depart Harrisonburg Valley Mall</li>\n	<li><strong>5:30 pm</strong>&nbsp\;&ndash\; Arrive at Stanley Fire Department\;&nbsp\;<strong>7:30 pm</strong>&nbsp\;&ndash\; Leave Stanley Fire Department</li>\n	<li><strong>8:15 pm</strong>&nbsp\;&ndash\; Arrive back at Harrisonburg Valley Mall</li>\n</ul>\n\n<p><strong>Speakers and VIPs:&nbsp\;</strong></p>\n\n<ul>\n	<li>Mark Reed\, Pioneer Bank CEO\; Loretta Lancaster\, Pioneer Bank CIO\; Bart May\, Segra Sales Engineer\; Jim Nester\, Segra VP Marketing\; Chris Shipman\, Segra VP of Sales\; Liz Lewis\, Page County Economic Development\;<span style="font-size:inherit">&nbsp\;</span>Mark Stroupe\, Page County Supervisor</li>\n</ul>\n\n<p><strong>Food (<em>by Little&nbsp\;Cabin BBQ)</em>:&nbsp\;</strong></p>\n\n<ul>\n	<li>Meatballs\;&nbsp\;Smokie sausages\;&nbsp\;Chicken salad &amp\; pimento cheese finger sandwiches\;&nbsp\;Assorted veggies &amp\; dip\;&nbsp\;Assorted cheese &amp\; crackers\;&nbsp\;Spinach dip\, hummus &amp\; chips\;&nbsp\;Assorted fruits.</li>\n</ul>\n<span style="font-family:muli\,helveticaneue\,helvetica neue\,helvetica\,arial\,sans-serif">Preference will be given to SVTC members and we will register them in order of submission. Non-members are invited to register as well\, and we will notify them whether there is a seat for them 2 days prior to the event.&nbsp\;&nbsp\;<em>(There are 24 spots. We will notify ALL who register whether they received a seat no later than 2 days prior. First come\, first serve.)</em></span><br />\n&nbsp\;\n<div style="text-align:center"><strong><a href="https://svtc-va.org/event/segra-pioneer-celebration/"><span style="font-family:muli\,helveticaneue\,helvetica neue\,helvetica\,arial\,sans-serif">Register for June 15\, 2019 Celebration Event</span></a></strong></div>\n
LOCATION:
UID:e.2338.6610
SEQUENCE:3
DTSTAMP:20260419T211319Z
URL:https://chamber.hrchamber.org/events/details/segra-pioneer-bank-celebration-event-6610
END:VEVENT

END:VCALENDAR
