BEGIN:VCALENDAR
VERSION:2.0
PRODID:-//ChamberMaster//Event Calendar 2.0//EN
METHOD:PUBLISH
X-PUBLISHED-TTL:P3D
REFRESH-INTERVAL:P3D
CALSCALE:GREGORIAN
BEGIN:VEVENT
DTSTART:20180406T230000Z
DTEND:20180407T010000Z
X-MICROSOFT-CDO-ALLDAYEVENT:FALSE
SUMMARY:See How They Run By Philip King
DESCRIPTION:See How They Run By Philip King Presented by special arrangement with Samuel French\, Inc. So swift is the action\, so involved the situations\, so rib-tickling the plot in this London hit that at its finish audiences are left as exhausted from laughter as though they had run a foot race. Galloping in and out of the four doors of an English vicarage are an American actor and actress (he is now stationed with the Air Force in England)\, a cockney maid who has seen too many American movies\, an old maid who "touches alcohol for the first time in her life\," four men in clergyman suits presenting the problem of which is which (for disguised as one is an escaped prisoner)\, and a sedate Bishop aghast at all these goings-on and the trumped up stories they tell him.
X-ALT-DESC;FMTTYPE=text/html:See How They Run By Philip King Presented by special arrangement with Samuel French\, Inc. So swift is the action\, so involved the situations\, so rib-tickling the plot in this London hit that at its finish audiences are left as exhausted from laughter as though they had run a foot race. Galloping in and out of the four doors of an English vicarage are an American actor and actress (he is now stationed with the Air Force in England)\, a cockney maid who has seen too many American movies\, an old maid who &quot\;touches alcohol for the first time in her life\,&quot\; four men in clergyman suits presenting the problem of which is which (for disguised as one is an escaped prisoner)\, and a sedate Bishop aghast at all these goings-on and the trumped up stories they tell him.
LOCATION:The Schultz Theatre and School of Performing Arts J. Frank Hillyard Auditorium 226 Hawks Hill Drive Broadway\, Virginia 22815
UID:e.2338.3738
SEQUENCE:3
DTSTAMP:20260420T131506Z
URL:https://chamber.hrchamber.org/events/details/see-how-they-run-by-philip-king-3738
END:VEVENT

END:VCALENDAR
