BEGIN:VCALENDAR
VERSION:2.0
PRODID:-//ChamberMaster//Event Calendar 2.0//EN
METHOD:PUBLISH
X-PUBLISHED-TTL:P3D
REFRESH-INTERVAL:P3D
CALSCALE:GREGORIAN
BEGIN:VEVENT
DTSTART:20170528T160000Z
DTEND:20170528T200000Z
X-MICROSOFT-CDO-ALLDAYEVENT:FALSE
SUMMARY:Scholarship Blood Drive for Spotswood High School
DESCRIPTION:The McGaheysville Volunteer Fire Department will be hosting a Bloodmobile on behalf of Spotswood High School's Scholarship Blood Drive on Sunday\, May 28th from noon until 4 pm. Walk-ins are welcome\, but appointments are preferred. To secure your spot\, visit https://donateblood.vablood.org
X-ALT-DESC;FMTTYPE=text/html:The McGaheysville Volunteer Fire Department will be hosting a Bloodmobile on behalf of Spotswood High School&#39\;s Scholarship Blood Drive on Sunday\, May 28th from noon until 4 pm. Walk-ins are welcome\, but appointments are preferred. To secure your spot\, visit https://donateblood.vablood.org
LOCATION:McGaheysville Volunteer Fire Department 80 Stover Drive McGaheysville VA 22840
UID:e.2338.2706
SEQUENCE:3
DTSTAMP:20260419T192202Z
URL:https://chamber.hrchamber.org/events/details/scholarship-blood-drive-for-spotswood-high-school-2706
END:VEVENT

END:VCALENDAR
