BEGIN:VCALENDAR
VERSION:2.0
PRODID:-//ChamberMaster//Event Calendar 2.0//EN
METHOD:PUBLISH
X-PUBLISHED-TTL:P3D
REFRESH-INTERVAL:P3D
CALSCALE:GREGORIAN
BEGIN:VEVENT
DTSTART:20160730T143000Z
DTEND:20160730T163000Z
X-MICROSOFT-CDO-ALLDAYEVENT:FALSE
SUMMARY:Saturday Morning @ the Movies
DESCRIPTION:A young girl is the only hope for this all-male baseball team and grumpy coach. This film is open and free to the public. Children 12 and under must be accompanied by an adult (18+). Check film title www.mrlib.org/flicks/.
X-ALT-DESC;FMTTYPE=text/html:A young girl is the only hope for this all-male baseball team and grumpy coach. This film is open and free to the public. Children 12 and under must be accompanied by an adult (18+). Check film title www.mrlib.org/flicks/.
LOCATION:North River Library\, 118 Mt. Crawford Ave\, Bridgewater\, VA
UID:e.2338.472
SEQUENCE:3
DTSTAMP:20260422T015419Z
URL:https://chamber.hrchamber.org/events/details/saturday-morning-the-movies-07-30-2016-472
END:VEVENT

END:VCALENDAR
