BEGIN:VCALENDAR
VERSION:2.0
PRODID:-//ChamberMaster//Event Calendar 2.0//EN
METHOD:PUBLISH
X-PUBLISHED-TTL:P3D
REFRESH-INTERVAL:P3D
CALSCALE:GREGORIAN
BEGIN:VEVENT
DTSTART:20160424T130000Z
DTEND:20160424T200000Z
X-MICROSOFT-CDO-ALLDAYEVENT:FALSE
SUMMARY:Santa Cruz Bicycles Demo Day - FREE
DESCRIPTION:Join Bluestone Bike & Run as we host the Santa Cruz Bicycles Demo Truck! We'll be out at the Western Slopes of Massanutten from 9-4 on Sunday\, April 24th.\n\n\n\nCome test some of our most favorite bikes in the world.\n\n\n\nBring a helmet\, an ID\, and a credit card. \n\n\n\nSee you out there!
X-ALT-DESC;FMTTYPE=text/html:Join Bluestone Bike &amp\; Run as we host the Santa Cruz Bicycles Demo Truck! We&#39\;ll be out at the Western Slopes of Massanutten from 9-4 on Sunday\, April 24th.<br />\n<br />\nCome test some of our most favorite bikes in the world.<br />\n<br />\nBring a helmet\, an ID\, and a credit card.&nbsp\;<br />\n<br />\nSee you out there!&nbsp\; &nbsp\;
LOCATION:Western Slopes of Massanutten
UID:e.2338.391
SEQUENCE:3
DTSTAMP:20260422T062520Z
URL:https://chamber.hrchamber.org/events/details/santa-cruz-bicycles-demo-day-free-04-24-2016-391
END:VEVENT

END:VCALENDAR
