BEGIN:VCALENDAR
VERSION:2.0
PRODID:-//ChamberMaster//Event Calendar 2.0//EN
METHOD:PUBLISH
X-PUBLISHED-TTL:P3D
REFRESH-INTERVAL:P3D
CALSCALE:GREGORIAN
BEGIN:VEVENT
DTSTART:20190405T230000Z
DTEND:20190406T010000Z
X-MICROSOFT-CDO-ALLDAYEVENT:FALSE
SUMMARY:Same Time\, Next Year by Bernard Slade
DESCRIPTION:Same Time\, Next Year by Bernard Slade\n\nPresented by special arrangement with Samuel French Inc. \n\n\n\nOne of the most popular romantic comedies of the century.  The plot follows a love affair between two people\, Doris and George\, married to others\, who rendezvous once a year. Twenty-five years of manners and morals are hilariously and touchingly played out by the lovers.\n\n\n\nParental Guidance Suggested. \n\nMild Adult Themes May Not Be Suitable For Children.
X-ALT-DESC;FMTTYPE=text/html:Same Time\, Next Year by Bernard Slade<br />\nPresented by special arrangement with Samuel French Inc.&nbsp\;<br />\n<br />\nOne of the most popular romantic comedies of the century.&nbsp\; The plot follows a love affair between two people\, Doris and George\, married to others\, who rendezvous once a year. Twenty-five years of manners and morals are hilariously and touchingly played out by the lovers.<br />\n<br />\nParental Guidance Suggested.&nbsp\;<br />\nMild Adult Themes May Not Be Suitable For Children.
LOCATION:The Schultz Theatre and School of Performing Arts J. Frank Hillyard Auditorium 226 Hawks Hill Drive Broadway\, Virginia 22815
UID:e.2338.6517
SEQUENCE:3
DTSTAMP:20260419T235316Z
URL:https://chamber.hrchamber.org/events/details/same-time-next-year-by-bernard-slade-6517
END:VEVENT

END:VCALENDAR
