BEGIN:VCALENDAR
VERSION:2.0
PRODID:-//ChamberMaster//Event Calendar 2.0//EN
METHOD:PUBLISH
X-PUBLISHED-TTL:P3D
REFRESH-INTERVAL:P3D
CALSCALE:GREGORIAN
BEGIN:VEVENT
DTSTART:20170816T160000Z
DTEND:20170816T170000Z
X-MICROSOFT-CDO-ALLDAYEVENT:FALSE
SUMMARY:Safety Smarts - Safety Leadership – It’s NOT All About OSHA
DESCRIPTION:Safety Leadership   It's NOT All About OSHA\n\nYears of attention by many professionals across multiple disciplines (Government\, EH&S\, Human Resources\, Engineering\, Nursing\, etc.) have still left many of us feeling that goals of achieving no lost time hours and zero injuries is challenging and elusive in our organizations.  There is incredible cost associated with incidents   both personal and financial   and each one impacts lives and overall safety performance.\n\n \n\nWhat can be done? Organizations need to focus on leadership and recognize the human element that is a significant part of safety performance and behaviors in the workplace.  Nearly all safety incidents contain a human behavior that contributed to the near miss or injury. Don't settle for mediocre safety performance   let's raise the bar by implementing good leadership skills that will empower and equip your workforce for better results.\n\n \n\nCome and learn how to recognize the human element and address it effectively using best leadership practices.\n\n\n\nAbout the Presenter:\n\n \n\nLara Hoke recently celebrated ten years as the owner of Leadership Foundations. She has over 25 years of experience in Human Resources Development & Safety.  She facilitates Leadership Foundations \, A Dialogue at the Front\, designed to provide practical skills for front line supervisors and executive level management teams needed to lead effectively. Previously she worked as the HR & Safety Supervisor for Hollister Incorporated and before joining Hollister\, she worked at RR Donnelley & Sons in Harrisonburg as the HR Supervisor. Lara is a Bridgewater College graduate and received her Master's Degree in Adult Education and Human Resources Development from James Madison University. In her leisure time she enjoys kayaking and international travel.  She volunteers at Bridge Christian Church as the Prayer Ministry Leader and is a founding member of the Blue Ridge Safety Association.
X-ALT-DESC;FMTTYPE=text/html:<span style="font-size:11px\;"><span style="font-family:arial\;"><strong><u><span style="background:white\;"><span style="color:#444444\;">Safety Leadership &ndash\; It&rsquo\;s NOT All About OSHA</span></span></u></strong><br />\n<span style="background:white\;">Years of attention by many professionals across multiple disciplines (Government\, EH&amp\;S\, Human Resources\, Engineering\, Nursing\, etc.) have still left many of us feeling that goals of achieving no lost time hours and zero injuries </span></span></span><span style="background:white\;"><span style="font-family:garamond\,serif\;"><span style="font-size:12.0pt\;"><span style="font-size:11px\;"><span style="font-family:arial\;">is</span></span><span style="font-size:11px\;"><span style="font-family:arial\;"> challenging and elusive in our organizations.&nbsp\; There is </span></span><span style="font-size:11px\;"><span style="font-family:arial\;">incredible</span></span></span></span></span><span style="font-size:11px\;"><span style="font-family:arial\;"><span style="background:white\;"> cost associated with incidents &ndash\; both personal and financial &ndash\; and each one impacts lives and overall safety performance.</span><br />\n&nbsp\;<br />\n<span style="background:white\;">What can be done? Organizations need to focus on leadership and recognize the human element that is a significant part of safety performance and behaviors in the workplace. &nbsp\;Nearly all safety incidents contain a human behavior that contributed to the near miss or injury. Don&rsquo\;t settle for mediocre safety performance &ndash\; let&rsquo\;s raise the bar by implementing good leadership skills that will empower and equip your workforce for better results.</span><br />\n&nbsp\;<br />\n<span style="background:white\;">Come and learn how to recognize the human element and address it effectively using best leadership practices.</span><br />\n<br />\n<strong><u><span style="background:white\;">About the Presenter:</span></u></strong><br />\n&nbsp\;<br />\n<span style="background:white\;"><span style="color:#444444\;">Lara Hoke recently celebrated ten years as the owner of <strong>Leadership Foundations</strong>. She has over 25 years of experience in Human Resources Development &amp\; Safety. &nbsp\;She facilitates </span></span><em>Leadership Foundations&reg\;\, A Dialogue at the Front\,</em><span style="background:white\;"><span style="color:#444444\;"> designed to provide practical skills for front line supervisors and executive level management teams needed to lead effectively. Previously she worked as the HR &amp\; Safety Supervisor for Hollister Incorporated and before joining Hollister\, she worked at RR Donnelley &amp\; Sons in Harrisonburg as the HR Supervisor. Lara is a Bridgewater College graduate and received her Master&rsquo\;s Degree in Adult Education and Human Resources Development from James Madison University. In her leisure </span></span></span></span><span style="background:white\;"><span style="color:#444444\;"><span style="font-family:garamond\,serif\;"><span style="font-size:12.0pt\;"><span style="font-size:11px\;"><span style="font-family:arial\;">time</span></span></span></span></span></span><span style="font-size:11px\;"><span style="font-family:arial\;"><span style="background:white\;"><span style="color:#444444\;"> she enjoys kayaking and international travel. &nbsp\;She volunteers at Bridge Christian Church as the Prayer Ministry Leader and is a founding member of the Blue Ridge Safety Association.&nbsp\;</span></span></span></span><br />\n<br />\n&nbsp\;
LOCATION:Harrisonburg-Rockingham Chamber of Commerce 800 Country Club Road Harrisonburg\, VA 22802
UID:e.2338.3204
SEQUENCE:3
DTSTAMP:20260420T011558Z
URL:https://chamber.hrchamber.org/events/details/safety-smarts-safety-leadership-it-s-not-all-about-osha-3204
END:VEVENT

END:VCALENDAR
