BEGIN:VCALENDAR
VERSION:2.0
PRODID:-//ChamberMaster//Event Calendar 2.0//EN
METHOD:PUBLISH
X-PUBLISHED-TTL:P3D
REFRESH-INTERVAL:P3D
CALSCALE:GREGORIAN
BEGIN:VEVENT
DTSTART:20170130T170000Z
DTEND:20170130T180000Z
X-MICROSOFT-CDO-ALLDAYEVENT:FALSE
SUMMARY:Safety Smarts - No Retaliation – Holding Employees Accountable to Following Safety Procedures Without Violating OSHA’s new Anti-Retaliation Rule
DESCRIPTION:This session will discuss how employers can set expectations for safety compliance\, and hold their employees to these expectations\, while taking steps to avoid the scrutiny of a Retaliation Claim. Participants will be able to engage in discussion centered around common safety violations and ways to address them. This will also include discussion on the importance of documentation and progressive discipline.
X-ALT-DESC;FMTTYPE=text/html:<em><span style="color:#1F497D\;">This session will discuss how employers can set expectations for safety compliance\, and hold their employees to these expectations\, while taking steps to avoid the scrutiny of a Retaliation Claim. Participants will be able to engage in discussion centered around common safety violations and ways to address them. This will also include discussion on the importance of documentation and progressive discipline.</span></em><br />\n&nbsp\;
LOCATION:Harrisonburg-Rockingham Chamber of Commerce 800 Country Club Road Harrisonburg\, VA 22802
UID:e.2338.1544
SEQUENCE:3
DTSTAMP:20260419T153309Z
URL:https://chamber.hrchamber.org/events/details/safety-smarts-no-retaliation-holding-employees-accountable-to-following-safety-procedures-without-violating-osha-s-new-anti-retaliation-rule-1544
END:VEVENT

END:VCALENDAR
