BEGIN:VCALENDAR
VERSION:2.0
PRODID:-//ChamberMaster//Event Calendar 2.0//EN
METHOD:PUBLISH
X-PUBLISHED-TTL:P3D
REFRESH-INTERVAL:P3D
CALSCALE:GREGORIAN
BEGIN:VEVENT
DTSTART:20170425T160000Z
DTEND:20170425T170000Z
X-MICROSOFT-CDO-ALLDAYEVENT:FALSE
SUMMARY:Safety Smarts -Emergency Action Plans & OSHA
DESCRIPTION:This is not a drill.\n\nEvery business should have an emergency action plan.  But does just meeting OSHA requirements really prepare you for what may happen?  Does your plan cover all the likely scenarios that your organization may face?  Does your plan help you successfully resume business after the emergency?\n\nIn this session we will briefly discuss the requirements and exemptions under the OSHA regulations for emergency action plans\, then we'll dive into some scenarios that test your plans to see if you are ready for the unexpected.  We'll discuss a development cycle to assist in creating or updating your plans including some tips on training and exercises.  We'll finish up with next steps\; "what happens after the emergency?"\n\n\n\nPresented by: John Weisgerber\n\nJohn has been employed by Dynamic Aviation at their Bridgewater\, VA headquarters for over 10 years. He is currently serving as the Manager of Environmental Compliance and Safety and is responsible for Environmental Compliance\, Occupational Safety\, Emergency Response\, and safety related aspects of governmental contract compliance.  Prior to working with safety at the company\, John served as an Aircraft Maintenance Manager\, Field Technical Representative\, and is a licensed aircraft mechanic. In addition to his full time work\, John has also previously volunteered with a local Rescue Squad and is a certified Emergency Medical Technician and emergency vehicle operator.
X-ALT-DESC;FMTTYPE=text/html:This is not a drill.<br />\nEvery business should have an emergency action plan.&nbsp\; But does just meeting OSHA requirements really prepare you for what may happen?&nbsp\; Does your plan cover all the likely scenarios that your organization may face?&nbsp\; Does your plan help you successfully resume business after the emergency?<br />\nIn this session we will briefly discuss the requirements and exemptions under the OSHA regulations for emergency action plans\, then we&rsquo\;ll dive into some scenarios that test your plans to see if you are ready for the unexpected.&nbsp\; We&rsquo\;ll discuss a development cycle to assist in creating or updating your plans including some tips on training and exercises.&nbsp\; We&rsquo\;ll finish up with next steps\; &ldquo\;what happens after the emergency?&rdquo\;<br />\n<br />\nPresented by: John Weisgerber<br />\nJohn has been employed by Dynamic Aviation at their Bridgewater\, VA headquarters for over 10 years. He is currently serving as the Manager of Environmental Compliance and Safety and is responsible for Environmental Compliance\, Occupational Safety\, Emergency Response\, and safety related aspects of governmental contract compliance.&nbsp\; Prior to working with safety at the company\, John served as an Aircraft Maintenance Manager\, Field Technical Representative\, and is a licensed aircraft mechanic. In addition to his full time work\, John has also previously volunteered with a local Rescue Squad and is a certified Emergency Medical Technician and emergency vehicle operator.<br />\n<br />\n&nbsp\;
LOCATION:Harrisonburg-Rockingham Chamber of Commerce 800 Country Club Road Harrisonburg\, VA 22802
UID:e.2338.1581
SEQUENCE:3
DTSTAMP:20260419T181050Z
URL:https://chamber.hrchamber.org/events/details/safety-smarts-emergency-action-plans-osha-1581
END:VEVENT

END:VCALENDAR
