BEGIN:VCALENDAR
VERSION:2.0
PRODID:-//ChamberMaster//Event Calendar 2.0//EN
METHOD:PUBLISH
X-PUBLISHED-TTL:P3D
REFRESH-INTERVAL:P3D
CALSCALE:GREGORIAN
BEGIN:VEVENT
DTSTART:20190413T123000Z
DTEND:20190413T150000Z
X-MICROSOFT-CDO-ALLDAYEVENT:FALSE
SUMMARY:Run the Runway Kids' Fun Run + 5K
DESCRIPTION:Lace up your running shoes and join us at Shenandoah Valley Regional Airport in Weyers Cave! The Run the Runway 5K is a family-friendly event beginning with a 1K Fun Run for children ages 3-12 at 8:30 am and a chip-timed 5K on the taxiway and runway beginning at 9:00 AM. This unique race opportunity is a perfect fit for runners\, walkers\, and families at all fitness levels. This unique course is handicap accessible and well-suited for those pushing young children in strollers.\n\nAll proceeds benefit the Explore More Discovery Museum's aviation exhibit where children will learn about the many aspects of aviation including hands-on experience as a pilot\, aircraft mechanic\, air traffic controller and passenger. By supporting this event through sponsorship or registration\, you will assist the museum to fulfill their mission of providing high-quality\, experiential learning opportunities for all children!\n\nReady to get started? Register below and/or find out how you can become an official event sponsor!
X-ALT-DESC;FMTTYPE=text/html:<p>Lace up your running shoes and join us at <a href="http://flyshd.com/" style="background: transparent\; text-decoration-line: none\; color: rgb(4\, 0\, 133)\; overflow-wrap: break-word\;" target="_blank">Shenandoah Valley Regional Airport</a> in Weyers Cave!&nbsp\;The Run the Runway 5K is a family-friendly event beginning with a 1K Fun Run for children ages 3-12 at 8:30 am and a chip-timed 5K on the taxiway and runway beginning at 9:00 AM. This unique race opportunity is a perfect fit for runners\, walkers\, and families at all fitness levels. This unique course is handicap accessible and well-suited for those pushing young children in strollers.</p>\n\n<p>All proceeds benefit the Explore More Discovery Museum&#39\;s aviation exhibit where children will learn about the many aspects of aviation including hands-on experience as a pilot\, aircraft mechanic\, air traffic controller and passenger. By supporting this event through sponsorship or registration\, you will assist the museum to fulfill their mission of providing high-quality\, experiential learning opportunities for all children!</p>\n\n<p>Ready to get started? Register below and/or find out how you can become an official event sponsor!</p>\n
LOCATION:Shenandoah Valley Regional Airport
UID:e.2338.6375
SEQUENCE:3
DTSTAMP:20260420T001902Z
URL:https://chamber.hrchamber.org/events/details/run-the-runway-kids-fun-run-5k-6375
END:VEVENT

END:VCALENDAR
