BEGIN:VCALENDAR
VERSION:2.0
PRODID:-//ChamberMaster//Event Calendar 2.0//EN
METHOD:PUBLISH
X-PUBLISHED-TTL:P3D
REFRESH-INTERVAL:P3D
CALSCALE:GREGORIAN
BEGIN:VEVENT
DTSTART:20190504T200000Z
DTEND:20190505T000000Z
X-MICROSOFT-CDO-ALLDAYEVENT:FALSE
SUMMARY:Rotary Kentucky Derby
DESCRIPTION:Talk Derby To Me!\n\n\n\nA Gala Event Benefiting SECOND HOME coming up May 4! \n\n\n\nThe Harrisonburg-Massanutten Rotary Club is laying out the red carpet\, or in this case\, the Red Roses\, for its inaugural event benefiting a local charity.  Talk Derby To Me\, being held on Saturday\, May 4th at the Spotswood Country Club from 4:00-8:00 pm will benefit Second Home. Come and support this fun\, exciting event\, which will combine the thrill of the Kentucky Derby along with a live band\, DJ\, games\, contests\, good food and an upscale atmosphere.\n\nTickets are $50 per person which includes two drinks and heavy hor'douerves. Live music by Kelly May Brown will keep your toes a tappin'! There will be a contest for the best-dressed male and female attendees   that means it is time to break out that fascinator\, ladies\, or your best swag\, gentlemen! Opportunity to stake your guess on the outcome of the race will also be made available.
X-ALT-DESC;FMTTYPE=text/html:<strong><em><span style="font-family:times new roman\,serif\;"><span style="font-size:20.0pt\;">Talk Derby To Me!</span></span></em></strong><br />\n<br />\n<span style="font-family:times new roman\,serif\;"><span style="font-size:16.0pt\;">A Gala Event Benefiting SECOND HOME coming up May 4! </span></span><br />\n<br />\n<span style="font-family:times new roman\,serif\;"><span style="font-size:16.0pt\;">The Harrisonburg-Massanutten Rotary Club is laying out the red carpet\, or in this case\, the Red Roses\, for its inaugural event benefiting a local charity. &nbsp\;<em>Talk Derby To Me\, </em>being held on Saturday\, May 4<sup>th</sup> at the Spotswood Country Club from 4:00-8:00 pm will benefit Second Home. Come and support this fun\, exciting event\, which will combine the thrill of the Kentucky Derby along with a live band\, DJ\, games\, contests\, good food and an upscale atmosphere.</span></span><br />\n<span style="font-family:times new roman\,serif\;"><span style="font-size:16.0pt\;">Tickets are $50 per person which includes two drinks and heavy hor&rsquo\;douerves. Live music by Kelly May Brown will keep your toes a tappin&rsquo\;! There will be a contest for the best-dressed male and female attendees &ndash\; that means it is time to break out that fascinator\, ladies\, or your best swag\, gentlemen! Opportunity to stake your guess on the outcome of the race will also be made available.&nbsp\;</span></span><br />\n&nbsp\;
LOCATION:Spotswood Country Club 1980 Country Club Rd Harrisonburg\, VA
UID:e.2338.6562
SEQUENCE:3
DTSTAMP:20260419T224428Z
URL:https://chamber.hrchamber.org/events/details/rotary-kentucky-derby-6562
END:VEVENT

END:VCALENDAR
