BEGIN:VCALENDAR
VERSION:2.0
PRODID:-//ChamberMaster//Event Calendar 2.0//EN
METHOD:PUBLISH
X-PUBLISHED-TTL:P3D
REFRESH-INTERVAL:P3D
CALSCALE:GREGORIAN
BEGIN:VEVENT
DTSTART;VALUE=DATE:20180813
DTEND;VALUE=DATE:20180819
TRANSP:TRANSPARENT
X-MICROSOFT-CDO-ALLDAYEVENT:TRUE
SUMMARY:Rockingham County Fair
DESCRIPTION:Click Here for more Info
X-ALT-DESC;FMTTYPE=text/html:<a href="http://www.rockinghamcountyfair.com/">Click Here</a> for more Info
LOCATION:4808 S. Valley Pike Harrisonburg\, VA 22801
UID:e.2338.5827
SEQUENCE:3
DTSTAMP:20260420T115843Z
URL:https://chamber.hrchamber.org/events/details/rockingham-county-fair-5827
END:VEVENT

END:VCALENDAR
