BEGIN:VCALENDAR
VERSION:2.0
PRODID:-//ChamberMaster//Event Calendar 2.0//EN
METHOD:PUBLISH
X-PUBLISHED-TTL:P3D
REFRESH-INTERVAL:P3D
CALSCALE:GREGORIAN
BEGIN:VEVENT
DTSTART:20180406T210000Z
DTEND:20180406T230000Z
X-MICROSOFT-CDO-ALLDAYEVENT:FALSE
SUMMARY:Rockin' the Arts
DESCRIPTION:Enjoy this First Friday Opening Reception of Rockin' the Arts - an art exhibit featuring the work of art educators from Harrisonburg City\, Rockingham County and Eastern Mennonite schools.
X-ALT-DESC;FMTTYPE=text/html:Enjoy this First Friday Opening Reception of Rockin&#39\; the Arts - an art exhibit featuring the work of art educators from Harrisonburg City\, Rockingham County and Eastern Mennonite schools.
LOCATION:The Park Gables Gallery\, VMRC 1491 Virginia Ave.\, Harrisonburg
UID:e.2338.4761
SEQUENCE:3
DTSTAMP:20260420T113838Z
URL:https://chamber.hrchamber.org/events/details/rockin-the-arts-4761
END:VEVENT

END:VCALENDAR
