BEGIN:VCALENDAR
VERSION:2.0
PRODID:-//ChamberMaster//Event Calendar 2.0//EN
METHOD:PUBLISH
X-PUBLISHED-TTL:P3D
REFRESH-INTERVAL:P3D
CALSCALE:GREGORIAN
BEGIN:VEVENT
DTSTART:20181111T000000Z
DTEND:20181111T020000Z
X-MICROSOFT-CDO-ALLDAYEVENT:FALSE
SUMMARY:Robert Jospe' Express
DESCRIPTION:Jazz\, Latin\, Funk\, and R&B fuse together in the Robert Josp  Express Quartet\, which include keyboards\, electric bass and guitar\, and features jazz with an electric edge. His highly skilled and entertaining band offers a concert repertoire and experience for all ages! "The band was extremely tight and had wonderful energy on stage. The arrangements were top notch and they tastefully exhibited their chops on straight ahead jazz\, Latin grooves\, funk\, (and) beautiful ballads."
X-ALT-DESC;FMTTYPE=text/html:<span style="background-color:rgb(255\, 255\, 255)\; color:rgb(75\, 81\, 85)\; font-family:verdana\,arial\,sans-serif\; font-size:14px">Jazz\, Latin\, Funk\, and R&amp\;B fuse together in the Robert Josp&eacute\; Express Quartet\, which include keyboards\, electric bass and guitar\, and features jazz with an electric edge. His highly skilled and entertaining band offers a concert repertoire and experience for all ages! &ldquo\;The band was extremely tight and had wonderful energy on stage. The arrangements were top notch and they tastefully exhibited their chops on straight ahead jazz\, Latin grooves\, funk\, (and) beautiful ballads.&rdquo\;</span>
LOCATION:Blue Ridge Community College Fine Arts Center
UID:e.2338.6097
SEQUENCE:3
DTSTAMP:20260420T072437Z
URL:https://chamber.hrchamber.org/events/details/robert-jospe-express-6097
END:VEVENT

END:VCALENDAR
