BEGIN:VCALENDAR
VERSION:2.0
PRODID:-//ChamberMaster//Event Calendar 2.0//EN
METHOD:PUBLISH
X-PUBLISHED-TTL:P3D
REFRESH-INTERVAL:P3D
CALSCALE:GREGORIAN
BEGIN:VEVENT
DTSTART:20191212T170000Z
DTEND:20191212T180000Z
X-MICROSOFT-CDO-ALLDAYEVENT:FALSE
SUMMARY:Ribbon Cutting for The Arc of HR
DESCRIPTION:Join The Arc of Harrisonburg and Rockingham as they celebrate two new vans supporting community engagement efforts for those with developmental disabilities. The ribbon cutting will take place at The Lucy F. Simms Center Thursday December 12 from 12-1 PM.
X-ALT-DESC;FMTTYPE=text/html:Join The Arc of Harrisonburg and Rockingham as they celebrate two new vans supporting community engagement efforts for those with developmental disabilities. The ribbon cutting will take place at The Lucy F. Simms Center Thursday December 12 from 12-1 PM.&nbsp\;
LOCATION:Lucy F. Simms Continuing Education Center 620 Simms Avenue Harrisonburg\, VA 22802
UID:e.2338.8270
SEQUENCE:3
DTSTAMP:20260419T132933Z
URL:https://chamber.hrchamber.org/events/details/ribbon-cutting-for-the-arc-of-hr-8270
END:VEVENT

END:VCALENDAR
