BEGIN:VCALENDAR
VERSION:2.0
PRODID:-//ChamberMaster//Event Calendar 2.0//EN
METHOD:PUBLISH
X-PUBLISHED-TTL:P3D
REFRESH-INTERVAL:P3D
CALSCALE:GREGORIAN
BEGIN:VEVENT
DTSTART:20190412T220000Z
DTEND:20190413T000000Z
X-MICROSOFT-CDO-ALLDAYEVENT:FALSE
SUMMARY:Rescheduled - Move for Life
DESCRIPTION:MOVE TO DIFFERENT DATE!!!   MAY 17\, 2019
X-ALT-DESC;FMTTYPE=text/html:<span style="font-size:26px\;"><span style="color:#FF0000\;"><span style="background-color: rgb(255\, 255\, 255)\; font-family: &quot\;noto sans&quot\;\, helvetica\, arial\, sans-serif\;">MOVE TO DIFFERENT DATE!!!&nbsp\; &nbsp\;MAY 17\, 2019&nbsp\;</span></span></span><br />\n&nbsp\;
LOCATION:University Park 1090 Devon Lane Harrisonburg\, VA 22801
UID:e.2338.6326
SEQUENCE:3
DTSTAMP:20260420T001011Z
URL:https://chamber.hrchamber.org/events/details/rescheduled-move-for-life-6326
END:VEVENT

END:VCALENDAR
