BEGIN:VCALENDAR
VERSION:2.0
PRODID:-//ChamberMaster//Event Calendar 2.0//EN
METHOD:PUBLISH
X-PUBLISHED-TTL:P3D
REFRESH-INTERVAL:P3D
CALSCALE:GREGORIAN
BEGIN:VEVENT
DTSTART:20181115T220000Z
DTEND:20181116T000000Z
X-MICROSOFT-CDO-ALLDAYEVENT:FALSE
SUMMARY:Rescheduled - Honey Baked Ham ·Business After Hours
DESCRIPTION:
X-ALT-DESC;FMTTYPE=text/html:
LOCATION:182 Neff Ave\, Suite S5 Harrisonburg\, VA 22801
UID:e.2338.3515
SEQUENCE:3
DTSTAMP:20260420T075205Z
URL:https://chamber.hrchamber.org/events/details/rescheduled-honey-baked-ham-business-after-hours-3515
END:VEVENT

END:VCALENDAR
