BEGIN:VCALENDAR
VERSION:2.0
PRODID:-//ChamberMaster//Event Calendar 2.0//EN
METHOD:PUBLISH
X-PUBLISHED-TTL:P3D
REFRESH-INTERVAL:P3D
CALSCALE:GREGORIAN
BEGIN:VEVENT
DTSTART:20160504T223000Z
DTEND:20160505T013000Z
X-MICROSOFT-CDO-ALLDAYEVENT:FALSE
SUMMARY:Refiner's Fire
DESCRIPTION:Refiner's Fire Bible Based 12 Step Discipleship Support and Recovery Group
X-ALT-DESC;FMTTYPE=text/html:Refiner&#39\;s Fire Bible Based 12 Step Discipleship Support and Recovery Group
LOCATION:Kingsway Prison and Family Outreach 1450 South Main Street (Duke's Plaza)\, Harrisonburg\, VA 22801
UID:e.2338.395
SEQUENCE:3
DTSTAMP:20260422T044831Z
URL:https://chamber.hrchamber.org/events/details/refiner-s-fire-05-04-2016-395
END:VEVENT

END:VCALENDAR
