BEGIN:VCALENDAR
VERSION:2.0
PRODID:-//ChamberMaster//Event Calendar 2.0//EN
METHOD:PUBLISH
X-PUBLISHED-TTL:P3D
REFRESH-INTERVAL:P3D
CALSCALE:GREGORIAN
BEGIN:VEVENT
DTSTART:20180421T120000Z
DTEND:20180421T170000Z
X-MICROSOFT-CDO-ALLDAYEVENT:FALSE
SUMMARY:REFI's 23rd Annual "Chip-In" for Quality Schools Golf Classic
DESCRIPTION:7:30 a.m. Registration\; 8:00 a.m. Continental Breakfast\; 8:30 a.m. Shotgun Start Lunch and prizes (Hole in one Sponsored by Steven's Toyota) ?Please register by Friday\, April 13th 2018
X-ALT-DESC;FMTTYPE=text/html:7:30 a.m. Registration\; 8:00 a.m. Continental Breakfast\; 8:30 a.m. Shotgun Start Lunch and prizes (Hole in one Sponsored by Steven&#39\;s Toyota) ?Please register by Friday\, April 13th 2018
LOCATION:Lakeview Golf Club
UID:e.2338.3747
SEQUENCE:3
DTSTAMP:20260420T131635Z
URL:https://chamber.hrchamber.org/events/details/refi-s-23rd-annual-chip-in-for-quality-schools-golf-classic-3747
END:VEVENT

END:VCALENDAR
