BEGIN:VCALENDAR
VERSION:2.0
PRODID:-//ChamberMaster//Event Calendar 2.0//EN
METHOD:PUBLISH
X-PUBLISHED-TTL:P3D
REFRESH-INTERVAL:P3D
CALSCALE:GREGORIAN
BEGIN:VEVENT
DTSTART:20170422T123000Z
DTEND:20170422T173000Z
X-MICROSOFT-CDO-ALLDAYEVENT:FALSE
SUMMARY:REFI's 22nd Annual "Chip-In' for Quality Schools Golf Classic
DESCRIPTION:The Rockingham Educational Foundation\, Inc. (REFI) has been supporting education in Rockingham County Public Schools for 22 years.  We are committed to our mission and focus on five core programs: Educational Grants\, Early Literacy\, Scholarships\, Teacher Recognition and the Teacher Supply Depot. The primary source of funding for our programs is from corporate sponsors and valued donors. 100% of the proceeds from the golf tournament\, go directly to teachers in the classrooms who have applied and been awarded an Educational Grant through REFI.
X-ALT-DESC;FMTTYPE=text/html:The Rockingham Educational Foundation\, Inc. (REFI) has been supporting&nbsp\;education in Rockingham County Public Schools for 22 years.&nbsp\; We are committed to our mission and focus on five core programs: <strong>Educational&nbsp\;Grants\, Early Literacy\, Scholarships\, Teacher Recognition and the Teacher Supply Depot.</strong> The primary source of funding for our programs is from corporate sponsors and valued donors. 100% of the proceeds from the golf tournament\, go directly to teachers in the classrooms who have applied and been awarded an <strong>Educational&nbsp\;Grant </strong>through REFI.&nbsp\;<br />\n<br />\n&nbsp\;
LOCATION:Lakeview Golf Club
UID:e.2338.1561
SEQUENCE:3
DTSTAMP:20260421T121203Z
URL:https://chamber.hrchamber.org/events/details/refi-s-22nd-annual-chip-in-for-quality-schools-golf-classic-1561
END:VEVENT

END:VCALENDAR
