BEGIN:VCALENDAR
VERSION:2.0
PRODID:-//ChamberMaster//Event Calendar 2.0//EN
METHOD:PUBLISH
X-PUBLISHED-TTL:P3D
REFRESH-INTERVAL:P3D
CALSCALE:GREGORIAN
BEGIN:VEVENT
DTSTART:20190219T203000Z
DTEND:20190219T230000Z
X-MICROSOFT-CDO-ALLDAYEVENT:FALSE
SUMMARY:Redeemer Classical School Open House
DESCRIPTION:Come by and visit Redeemer during this after school Open House. Walk around the campus\, meet our amazing teachers and staff\, learn about our unique curriculum\, and inquire about the admission and tuition assistance processes. \n\n\n\nSee how Redeemer's PreK-8th grade classical Christian education can benefit your family.\n\n\n\n"Redeemer students are not treated as projects or statistics\; rather as real people with purpose and potential. Instead of a low-set bar for them to simply clear\; a crown is held high above their heads\, accompanied by an invitation to grow into it both intellectually and in respect to their character\," RCS ALUMNUS.
X-ALT-DESC;FMTTYPE=text/html:<span style="color:rgb(29\, 33\, 41)\; font-family:helvetica\,arial\,sans-serif\; font-size:14px">Come by and visit Redeemer during this after school Open House. Walk around the campus\, meet our amazing teachers and staff\, learn about our unique curriculum\, and inquire about the admission and tuition assistance processes. </span><br />\n<br />\n<strong><span style="color:rgb(29\, 33\, 41)\; font-family:helvetica\,arial\,sans-serif\; font-size:14px">See how Redeemer&#39\;s PreK-8th grade classical Christian education can benefit your family.</span></strong><br />\n<br />\n<span style="color:rgb(29\, 33\, 41)\; font-family:helvetica\,arial\,sans-serif\; font-size:14px">&quot\;Redeemer students are not treated as projects or statistics\; rather as real people with purpose and potential. Instead of a low-set bar for them to simply clear\; a crown is held high above their heads\, accompanied by an invitation to grow into it both intellectually and in respect to their character\,&quot\;&mdash\;RCS ALUMNUS.</span>
LOCATION:1688 Indian Trail Road Keezletown\, VA 22832
UID:e.2338.6341
SEQUENCE:3
DTSTAMP:20260420T030448Z
URL:https://chamber.hrchamber.org/events/details/redeemer-classical-school-open-house-6341
END:VEVENT

END:VCALENDAR
