BEGIN:VCALENDAR
VERSION:2.0
PRODID:-//ChamberMaster//Event Calendar 2.0//EN
METHOD:PUBLISH
X-PUBLISHED-TTL:P3D
REFRESH-INTERVAL:P3D
CALSCALE:GREGORIAN
BEGIN:VEVENT
DTSTART:20171120T233000Z
DTEND:20171121T010000Z
X-MICROSOFT-CDO-ALLDAYEVENT:FALSE
SUMMARY:READY\, SET\, SING!
DESCRIPTION:Ready\, Set\, SING! (RSS) is a free community service offering men in our area\, young and old\, a chance to learn how to sing or sing better.\n\nSix lessons\, one hour each\, will be held each week over a six-week period starting on Monday\, October 30\, 2017.\n\nOur Harmony Society's CEO\, Marty Monson\, has stated: "We sing   We serve\, No strings attached." We are simply welcoming men to enjoy singing just like we do.
X-ALT-DESC;FMTTYPE=text/html:Ready\, Set\, SING! (RSS)&nbsp\;is a free community service offering men in our area\, young and old\, a chance to learn how to sing or sing better.<br />\nSix lessons\, one hour each\, will be held each week over a six-week period starting on&nbsp\;Monday\, October 30\, 2017.<br />\nOur Harmony Society&rsquo\;s&nbsp\;CEO\, Marty Monson\, has stated:&nbsp\;&ldquo\;We sing &ndash\; We serve\, No strings attached.&rdquo\;&nbsp\;We are simply welcoming men to enjoy singing just like we do.
LOCATION:Providence Baptist Church Located at ?1441 Erickson Avenue Harrisonburg\, VA 22801
UID:e.2338.3250
SEQUENCE:3
DTSTAMP:20260420T053824Z
URL:https://chamber.hrchamber.org/events/details/ready-set-sing-11-20-2017-3250
END:VEVENT

END:VCALENDAR
