BEGIN:VCALENDAR
VERSION:2.0
PRODID:-//ChamberMaster//Event Calendar 2.0//EN
METHOD:PUBLISH
X-PUBLISHED-TTL:P3D
REFRESH-INTERVAL:P3D
CALSCALE:GREGORIAN
BEGIN:VEVENT
DTSTART:20171102T170000Z
DTEND:20171102T210000Z
X-MICROSOFT-CDO-ALLDAYEVENT:FALSE
SUMMARY:Rapid Fire Marketing
DESCRIPTION:Meet marketing experts. Ask your questions. Improve your business.\n\n\n\nThe region's best marketing professionals are being brought together to teach and answer your questions on these topics: Print Marketing\, Content\, Website Development\, Graphic Design\, Social Media Advertising\, Video Marketing\, Promotional Products\, Radio\, TV\, Newspaper\, and overall Marketing Strategy.\n\n\n\nWhen: Thursday\, November 2 from 1 - 5 p.m.\n\nWhere: DoubleTree by Hilton Harrisonburg \n\n \n\nClick here for more information and to register.
X-ALT-DESC;FMTTYPE=text/html:<span style="color:black\;"><span style="font-family:trebuchet ms\,sans-serif\;">Meet marketing experts. Ask your questions. Improve your business.<br />\n<br />\nThe region&#39\;s best marketing professionals are being brought together to teach and answer your questions on these topics: Print Marketing\, Content\, Website Development\, Graphic Design\, Social Media Advertising\, Video Marketing\, Promotional Products\, Radio\, TV\, Newspaper\, and overall Marketing Strategy.<br />\n<br />\nWhen: Thursday\, November 2 from 1 - 5 p.m.</span></span><br />\n<span style="color:black\;"><span style="font-family:trebuchet ms\,sans-serif\;">Where: DoubleTree by Hilton Harrisonburg&nbsp\;</span></span><br />\n&nbsp\;<br />\n<span style="color:black\;"><span style="font-family:trebuchet ms\,sans-serif\;"><span style="font-size:12.0pt\;"><a alt="https://www.eventbrite.com/e/17-rapid-fire-marketing-tickets-37310825684" href="http://r20.rs6.net/tn.jsp?f=001nqsUgdw3eulwnZxZS6Rbp3OMsmrhSVUXtOAR-KoB0v045vNp2SUQqNW1qTcGfvNfYm2Vmx_u99GH2ffD6klypJ5OEiaZZnMP0xYvsNB2F5W9M_fjQn5Kunw1JfPZUbC-BnhDLPtzGfq1UlpoHnq2Kh4N7Yra10MyXykHWknpttv-NcuNDNYUfWOID71GgGwgKIqaByUk1AtZIOuyoUF_LKrIDkiJfz-556Pjpciwiut4L7pb3EqpXg==&amp\;c=aM5wI32llD8emN6U5CXPv1LD6VlJVa3sxLO2L53a8xTPBIpyD861hw==&amp\;ch=0H23DAYVykBrWNSIkBCeIP8f_kX5wkEbnc4tR1BBxV7lMvLuphvrBw==" linktype="1" shape="rect" target="_blank" track="on">Click here</a> for more information and to register.&nbsp\;&nbsp\;</span></span></span>
LOCATION:
UID:e.2338.3285
SEQUENCE:3
DTSTAMP:20260420T053901Z
URL:https://chamber.hrchamber.org/events/details/rapid-fire-marketing-3285
END:VEVENT

END:VCALENDAR
