BEGIN:VCALENDAR
VERSION:2.0
PRODID:-//ChamberMaster//Event Calendar 2.0//EN
METHOD:PUBLISH
X-PUBLISHED-TTL:P3D
REFRESH-INTERVAL:P3D
CALSCALE:GREGORIAN
BEGIN:VEVENT
DTSTART:20180506T193000Z
DTEND:20180506T213000Z
X-MICROSOFT-CDO-ALLDAYEVENT:FALSE
SUMMARY:Rally to Improve Birth
DESCRIPTION:Our local rally joins thousands of people in cities around the country in peaceful\, family-oriented rallies to call for better maternity care and postpartum support for US families. This rally is in solidarity with this year's March for Moms event happening in Washington DC and helps bring attention to the US having some of the worst outcomes in maternal health among developed countries\, despite spending the most money.
X-ALT-DESC;FMTTYPE=text/html:Our local rally joins thousands of people in cities around the country in peaceful\, family-oriented rallies to call for better maternity care and postpartum support for US families. This rally is in solidarity with this year&rsquo\;s March for Moms event happening in Washington DC and helps bring attention to the US having some of the worst outcomes in maternal health among developed countries\, despite spending the most money.
LOCATION:Court square
UID:e.2338.5786
SEQUENCE:3
DTSTAMP:20260420T131504Z
URL:https://chamber.hrchamber.org/events/details/rally-to-improve-birth-5786
END:VEVENT

END:VCALENDAR
