BEGIN:VCALENDAR
VERSION:2.0
PRODID:-//ChamberMaster//Event Calendar 2.0//EN
METHOD:PUBLISH
X-PUBLISHED-TTL:P3D
REFRESH-INTERVAL:P3D
CALSCALE:GREGORIAN
BEGIN:VEVENT
DTSTART:20181103T180000Z
DTEND:20181103T230000Z
X-MICROSOFT-CDO-ALLDAYEVENT:FALSE
SUMMARY:R-H SPCA Pup Crawl
DESCRIPTION:Join us for the first Pup Crawl around downtown Harrisonburg! Spend an afternoon with fellow animal lovers enjoying what local restaurants and bars have to offer! Admission for this event includes an event t-shirt\, koozie\, and wristband. All proceeds from the event benefit the animals in need at the Rockingham-Harrisonburg SPCA. Local establishments are participating by having special drinks and/or donating a portion of proceeds back to the animals in need! Purchase your ticket today!
X-ALT-DESC;FMTTYPE=text/html:<span style="color:rgb(34\, 34\, 34)\; font-family:maven pro\,sans-serif\; font-size:14.4px">Join us for the first Pup Crawl around downtown Harrisonburg! Spend an afternoon with fellow animal lovers enjoying what local restaurants and bars have to offer! Admission for this event includes an event t-shirt\, koozie\, and wristband. All proceeds from the event benefit the animals in need at the Rockingham-Harrisonburg SPCA. Local establishments are participating by having special drinks and/or donating a portion of proceeds back to the animals in need! Purchase your ticket today!</span>
LOCATION:Capital Ale House\; 41-A Court Square\, Harrisonburg\, VA Three Notch'd Brewing\; 241 E. Market Street\, Harrisonburg\, VA Union Station\; 128 W. Market Street\, Harrisonburg\, VA Pale Fire Brewing\; 217 S. Liberty Street\, Harrisonburg\, VA Golden Pony\; 181 N. Main Street\, Harrisonburg\, VA
UID:e.2338.6072
SEQUENCE:3
DTSTAMP:20260420T074532Z
URL:https://chamber.hrchamber.org/events/details/r-h-spca-pup-crawl-6072
END:VEVENT

END:VCALENDAR
