BEGIN:VCALENDAR
VERSION:2.0
PRODID:-//ChamberMaster//Event Calendar 2.0//EN
METHOD:PUBLISH
X-PUBLISHED-TTL:P3D
REFRESH-INTERVAL:P3D
CALSCALE:GREGORIAN
BEGIN:VEVENT
DTSTART:20180228T140000Z
DTEND:20180228T183000Z
X-MICROSOFT-CDO-ALLDAYEVENT:FALSE
SUMMARY:Public Bloodmobile Scholarship Drive at Eastern Mennonite School
DESCRIPTION:Eastern Mennonite High School is hosting a Bloodmobile scholarship blood drive on Wednesday\, February 28 from 9 am to 1:30 pm. Walk-ins are welcome\, but appointments are encouraged. To secure your spot\, please call Christine at 540/236-6000.
X-ALT-DESC;FMTTYPE=text/html:Eastern Mennonite High School is hosting a Bloodmobile scholarship blood drive on Wednesday\, February 28 from 9 am to 1:30 pm. Walk-ins are welcome\, but appointments are encouraged. To secure your spot\, please call Christine at 540/236-6000.
LOCATION:Eastern Mennonite High School 801 Parkwood Drive\, Harrisonburg
UID:e.2338.3609
SEQUENCE:3
DTSTAMP:20260420T101000Z
URL:https://chamber.hrchamber.org/events/details/public-bloodmobile-scholarship-drive-at-eastern-mennonite-school-3609
END:VEVENT

END:VCALENDAR
