BEGIN:VCALENDAR
VERSION:2.0
PRODID:-//ChamberMaster//Event Calendar 2.0//EN
METHOD:PUBLISH
X-PUBLISHED-TTL:P3D
REFRESH-INTERVAL:P3D
CALSCALE:GREGORIAN
BEGIN:VEVENT
DTSTART:20180909T123000Z
DTEND:20180909T173000Z
X-MICROSOFT-CDO-ALLDAYEVENT:FALSE
SUMMARY:Public bloodmobile drive in downtown Harrisonburg
DESCRIPTION:Muhlenberg Lutheran Church is hosting a public bloodmobile drive at 337 East Market Street on Sunday\, September 9 from 8:30 am to 1:30 pm.  Walk-ins are welcome\, but appointments are encouraged.  To secure your spot\, visit https://donateblood.vablood.org.
X-ALT-DESC;FMTTYPE=text/html:Muhlenberg Lutheran Church is hosting a public bloodmobile drive at 337 East Market Street on Sunday\, September 9 from 8:30 am to 1:30 pm.&nbsp\; Walk-ins are welcome\, but appointments are encouraged.&nbsp\; To secure your spot\, visit <a href="https://donateblood.vablood.org/">https://donateblood.vablood.org</a>.
LOCATION:Marks & Harrison 337 East Market Street Harrisonburg VA 22801
UID:e.2338.5951
SEQUENCE:3
DTSTAMP:20260420T104454Z
URL:https://chamber.hrchamber.org/events/details/public-bloodmobile-drive-in-downtown-harrisonburg-5951
END:VEVENT

END:VCALENDAR
