BEGIN:VCALENDAR
VERSION:2.0
PRODID:-//ChamberMaster//Event Calendar 2.0//EN
METHOD:PUBLISH
X-PUBLISHED-TTL:P3D
REFRESH-INTERVAL:P3D
CALSCALE:GREGORIAN
BEGIN:VEVENT
DTSTART:20180909T150000Z
DTEND:20180909T190000Z
X-MICROSOFT-CDO-ALLDAYEVENT:FALSE
SUMMARY:Public bloodmobile drive at Singers Glen Volunteer Rescue Squad
DESCRIPTION:Singers Glen Volunteer Rescue Squad is hosting a public bloodmobile drive on Sunday\, September 9 from 11 am to 3 pm. Walk-ins are welcome\, but appointments are encouraged.  To secure your spot\, visit https://donateblood.vablood.org.
X-ALT-DESC;FMTTYPE=text/html:Singers Glen Volunteer Rescue Squad is hosting a public bloodmobile drive on Sunday\, September 9 from 11 am to 3 pm. Walk-ins are welcome\, but appointments are encouraged.&nbsp\; To secure your spot\, visit <a href="https://donateblood.vablood.org/">https://donateblood.vablood.org</a>.
LOCATION:Singers Glen VRS 9405 Singers Glen Road Singers Glen VA 22850
UID:e.2338.5950
SEQUENCE:3
DTSTAMP:20260420T104710Z
URL:https://chamber.hrchamber.org/events/details/public-bloodmobile-drive-at-singers-glen-volunteer-rescue-squad-5950
END:VEVENT

END:VCALENDAR
