BEGIN:VCALENDAR
VERSION:2.0
PRODID:-//ChamberMaster//Event Calendar 2.0//EN
METHOD:PUBLISH
X-PUBLISHED-TTL:P3D
REFRESH-INTERVAL:P3D
CALSCALE:GREGORIAN
BEGIN:VEVENT
DTSTART:20170809T150000Z
DTEND:20170809T190000Z
X-MICROSOFT-CDO-ALLDAYEVENT:FALSE
SUMMARY:Public Bloodmobile Drive at Serco
DESCRIPTION:SERCO on Technology Drive in Harrisonburg will be hosting a Bloodmobile blood drive on Wednesday\, August 9th from 11:00 am to 3:00 pm. Free lunch totes for all donors\, while supplies last! Walk-ins are welcome\, but appointments are encouraged. To secure your spot\, visit https://donateblood.vablood.org. Be a summer life-saver   donate blood and help save lives!
X-ALT-DESC;FMTTYPE=text/html:SERCO on Technology Drive in Harrisonburg will be hosting a Bloodmobile blood drive on Wednesday\, August 9th from 11:00 am to 3:00 pm. Free lunch totes for all donors\, while supplies last! Walk-ins are welcome\, but appointments are encouraged. To secure your spot\, visit https://donateblood.vablood.org. Be a summer life-saver &ndash\; donate blood and help save lives!
LOCATION:Serco 1450 Technology Drive Harrisonburg
UID:e.2338.3184
SEQUENCE:3
DTSTAMP:20260419T234504Z
URL:https://chamber.hrchamber.org/events/details/public-bloodmobile-drive-at-serco-3184
END:VEVENT

END:VCALENDAR
