BEGIN:VCALENDAR
VERSION:2.0
PRODID:-//ChamberMaster//Event Calendar 2.0//EN
METHOD:PUBLISH
X-PUBLISHED-TTL:P3D
REFRESH-INTERVAL:P3D
CALSCALE:GREGORIAN
BEGIN:VEVENT
DTSTART:20180501T190000Z
DTEND:20180501T230000Z
X-MICROSOFT-CDO-ALLDAYEVENT:FALSE
SUMMARY:Public Bloodmobile Drive at Planet Fitness
DESCRIPTION:Planet Fitness in Harrisonburg\, in the Spotswood Square Shopping Center\, is hosting a public Bloodmobile drive on Tuesday\, May 1 from 3 pm to 7 pm. Donors receive a thank-you insulated lunch tote\, while supplies last! Walk-ins are welcome\, but appointments are encouraged. To secure your spot\, visit https://donateblood.vablood.org.
X-ALT-DESC;FMTTYPE=text/html:Planet Fitness in Harrisonburg\, in the Spotswood Square Shopping Center\, is hosting a public Bloodmobile drive on Tuesday\, May 1 from 3 pm to 7 pm. Donors receive a thank-you insulated lunch tote\, while supplies last! Walk-ins are welcome\, but appointments are encouraged. To secure your spot\, visit https://donateblood.vablood.org.
LOCATION:Planet Fitness 1790 East Market Street
UID:e.2338.5791
SEQUENCE:3
DTSTAMP:20260420T131824Z
URL:https://chamber.hrchamber.org/events/details/public-bloodmobile-drive-at-planet-fitness-5791
END:VEVENT

END:VCALENDAR
