BEGIN:VCALENDAR
VERSION:2.0
PRODID:-//ChamberMaster//Event Calendar 2.0//EN
METHOD:PUBLISH
X-PUBLISHED-TTL:P3D
REFRESH-INTERVAL:P3D
CALSCALE:GREGORIAN
BEGIN:VEVENT
DTSTART:20180910T190000Z
DTEND:20180910T230000Z
X-MICROSOFT-CDO-ALLDAYEVENT:FALSE
SUMMARY:Public bloodmobile drive at Planet Fitness
DESCRIPTION:Planet Fitness in Harrisonburg is hosting a public Bloodmobile drive on Monday\, September 10 from 3 pm to 7 pm.  Walk-ins are welcome\, but appointments are encouraged.  To secure your spot\, visit https://donateblood.vablood.org.
X-ALT-DESC;FMTTYPE=text/html:Planet Fitness in Harrisonburg is hosting a public Bloodmobile drive on Monday\, September 10 from 3 pm to 7 pm.&nbsp\; Walk-ins are welcome\, but appointments are encouraged.&nbsp\; To secure your spot\, visit <a href="https://donateblood.vablood.org/">https://donateblood.vablood.org</a>.
LOCATION:Planet Fitness 1790 East Market Street Harrisonburg VA 22801
UID:e.2338.5952
SEQUENCE:3
DTSTAMP:20260420T104933Z
URL:https://chamber.hrchamber.org/events/details/public-bloodmobile-drive-at-planet-fitness-09-10-2018-5952
END:VEVENT

END:VCALENDAR
