BEGIN:VCALENDAR
VERSION:2.0
PRODID:-//ChamberMaster//Event Calendar 2.0//EN
METHOD:PUBLISH
X-PUBLISHED-TTL:P3D
REFRESH-INTERVAL:P3D
CALSCALE:GREGORIAN
BEGIN:VEVENT
DTSTART:20180522T140000Z
DTEND:20180522T183000Z
X-MICROSOFT-CDO-ALLDAYEVENT:FALSE
SUMMARY:Public Bloodmobile Drive at LenhartPettit/WHSV
DESCRIPTION:LenhartPettit and WHSV are hosting a public Bloodmobile drive at their shared parking lot on Tuesday\, May 23 from 10 am to 2:30 pm. Walk-ins are welcome\, but appointments are encouraged. To secure your spot\, visit https://donateblood.vablood.org.
X-ALT-DESC;FMTTYPE=text/html:LenhartPettit and WHSV are hosting a public Bloodmobile drive at their shared parking lot on Tuesday\, May 23 from 10 am to 2:30 pm. Walk-ins are welcome\, but appointments are encouraged. To secure your spot\, visit https://donateblood.vablood.org.
LOCATION:WHSV/Lenhart Pettit 90 North Main Street\, Harrisonburg
UID:e.2338.5801
SEQUENCE:3
DTSTAMP:20260420T131656Z
URL:https://chamber.hrchamber.org/events/details/public-bloodmobile-drive-at-lenhartpettit-whsv-5801
END:VEVENT

END:VCALENDAR
