BEGIN:VCALENDAR
VERSION:2.0
PRODID:-//ChamberMaster//Event Calendar 2.0//EN
METHOD:PUBLISH
X-PUBLISHED-TTL:P3D
REFRESH-INTERVAL:P3D
CALSCALE:GREGORIAN
BEGIN:VEVENT
DTSTART:20170912T140000Z
DTEND:20170912T180000Z
X-MICROSOFT-CDO-ALLDAYEVENT:FALSE
SUMMARY:Public Bloodmobile Drive at Lenhart Pettit/WHSV
DESCRIPTION:Lenhart Pettit and WHSV are co-hosting a public Bloodmobile drive on Tuesday\, September 12th from 10:00 am until 2:00 pm. Free tee shirts\, while supplies last\, for all donors! Walk-ins are welcome\, but appointments are encouraged. To secure your spot\, visit https://donateblood.vablood.org.
X-ALT-DESC;FMTTYPE=text/html:Lenhart Pettit and WHSV are co-hosting a public Bloodmobile drive on Tuesday\, September 12th from 10:00 am until 2:00 pm. Free tee shirts\, while supplies last\, for all donors! Walk-ins are welcome\, but appointments are encouraged. To secure your spot\, visit https://donateblood.vablood.org.
LOCATION:Lenhart Pettit/WHSV parking lot 90 North Main Street Harrisonburg VA 22802
UID:e.2338.3225
SEQUENCE:3
DTSTAMP:20260420T011308Z
URL:https://chamber.hrchamber.org/events/details/public-bloodmobile-drive-at-lenhart-pettit-whsv-3225
END:VEVENT

END:VCALENDAR
