BEGIN:VCALENDAR
VERSION:2.0
PRODID:-//ChamberMaster//Event Calendar 2.0//EN
METHOD:PUBLISH
X-PUBLISHED-TTL:P3D
REFRESH-INTERVAL:P3D
CALSCALE:GREGORIAN
BEGIN:VEVENT
DTSTART:20180518T150000Z
DTEND:20180518T190000Z
X-MICROSOFT-CDO-ALLDAYEVENT:FALSE
SUMMARY:Public Bloodmobile Drive at Harrisonburg Health and Rehabilitation
DESCRIPTION:Harrisonburg Health and Rehabilitation on Reservoir Street is hosting a public Bloodmobile drive on Friday\, May 18 from 11 am to 3 pm. Walk-ins are welcome\, but appointments are encouraged. To secure your spot\, visit https://donateblood.vablood.org.
X-ALT-DESC;FMTTYPE=text/html:Harrisonburg Health and Rehabilitation on Reservoir Street is hosting a public Bloodmobile drive on Friday\, May 18 from 11 am to 3 pm. Walk-ins are welcome\, but appointments are encouraged. To secure your spot\, visit https://donateblood.vablood.org.
LOCATION:Harrisonburg Health and Rehabilitation 1225 Reservoir Street
UID:e.2338.5798
SEQUENCE:3
DTSTAMP:20260420T131947Z
URL:https://chamber.hrchamber.org/events/details/public-bloodmobile-drive-at-harrisonburg-health-and-rehabilitation-5798
END:VEVENT

END:VCALENDAR
