BEGIN:VCALENDAR
VERSION:2.0
PRODID:-//ChamberMaster//Event Calendar 2.0//EN
METHOD:PUBLISH
X-PUBLISHED-TTL:P3D
REFRESH-INTERVAL:P3D
CALSCALE:GREGORIAN
BEGIN:VEVENT
DTSTART:20170827T130000Z
DTEND:20170827T170000Z
X-MICROSOFT-CDO-ALLDAYEVENT:FALSE
SUMMARY:Public Bloodmobile Drive at First Church of the Nazarene
DESCRIPTION:Harrisonburg First Church of the Nazarene will be hosting a public blood drive on Sunday\, August 27th from 9:00 am to 1:00 pm. Free lunch totes for all donors\, while supplies last! Walk-ins are welcome\, but appointments are encouraged. To secure your spot\, visit https://donateblood.vablood.org. Be a summer life-saver   donate blood and help save lives!
X-ALT-DESC;FMTTYPE=text/html:Harrisonburg First Church of the Nazarene will be hosting a public blood drive on Sunday\, August 27th from 9:00 am to 1:00 pm. Free lunch totes for all donors\, while supplies last! Walk-ins are welcome\, but appointments are encouraged. To secure your spot\, visit https://donateblood.vablood.org. Be a summer life-saver &ndash\; donate blood and help save lives!
LOCATION:First Church of the Nazarene 1871 Boyers Road Harrisonburg
UID:e.2338.3189
SEQUENCE:3
DTSTAMP:20260420T011711Z
URL:https://chamber.hrchamber.org/events/details/public-bloodmobile-drive-at-first-church-of-the-nazarene-3189
END:VEVENT

END:VCALENDAR
