BEGIN:VCALENDAR
VERSION:2.0
PRODID:-//ChamberMaster//Event Calendar 2.0//EN
METHOD:PUBLISH
X-PUBLISHED-TTL:P3D
REFRESH-INTERVAL:P3D
CALSCALE:GREGORIAN
BEGIN:VEVENT
DTSTART:20180519T123000Z
DTEND:20180519T170000Z
X-MICROSOFT-CDO-ALLDAYEVENT:FALSE
SUMMARY:Public Bloodmobile Drive at Brethren Disaster Missions Auction
DESCRIPTION:As part of the Brethren Disaster Ministries Auction at the Rockingham County Fairgrounds\, there will be a public Bloodmobile drive on Saturday\, May 19 from 8:30 am to 1 pm. Walk-ins are welcome\, but appointments are encouraged. To secure your spot\, visit https://donateblood.vablood.org.
X-ALT-DESC;FMTTYPE=text/html:As part of the Brethren Disaster Ministries Auction at the Rockingham County Fairgrounds\, there will be a public Bloodmobile drive on Saturday\, May 19 from 8:30 am to 1 pm. Walk-ins are welcome\, but appointments are encouraged. To secure your spot\, visit https://donateblood.vablood.org.
LOCATION:Rockingham County Fairgrounds 4808 South Valley Pike
UID:e.2338.5799
SEQUENCE:3
DTSTAMP:20260420T145219Z
URL:https://chamber.hrchamber.org/events/details/public-bloodmobile-drive-at-brethren-disaster-missions-auction-5799
END:VEVENT

END:VCALENDAR
