BEGIN:VCALENDAR
VERSION:2.0
PRODID:-//ChamberMaster//Event Calendar 2.0//EN
METHOD:PUBLISH
X-PUBLISHED-TTL:P3D
REFRESH-INTERVAL:P3D
CALSCALE:GREGORIAN
BEGIN:VEVENT
DTSTART:20170903T123000Z
DTEND:20170903T163000Z
X-MICROSOFT-CDO-ALLDAYEVENT:FALSE
SUMMARY:Public Bloodmobile Drive at Blessed Sacrament Catholic Church
DESCRIPTION:Blessed Sacrament Catholic Church will be hosting a Bloodmobile blood drive on Sunday\, September 3 from 8:30 am to 12:30 pm. Free tee shirts\, while supplies last\, for all donors! Walk-ins are welcome\, but appointments are encouraged. To secure your spot\, visit https://donateblood.vablood.org. Be a summer life-saver   donate blood and help save lives!
X-ALT-DESC;FMTTYPE=text/html:Blessed Sacrament Catholic Church will be hosting a Bloodmobile blood drive on Sunday\, September 3 from 8:30 am to 12:30 pm. Free tee shirts\, while supplies last\, for all donors! Walk-ins are welcome\, but appointments are encouraged. To secure your spot\, visit https://donateblood.vablood.org. Be a summer life-saver &ndash\; donate blood and help save lives!
LOCATION:Blessed Sacrament Catholic Church 154 North Main Street Harrisonburg
UID:e.2338.3190
SEQUENCE:3
DTSTAMP:20260420T024640Z
URL:https://chamber.hrchamber.org/events/details/public-bloodmobile-drive-at-blessed-sacrament-catholic-church-3190
END:VEVENT

END:VCALENDAR
