BEGIN:VCALENDAR
VERSION:2.0
PRODID:-//ChamberMaster//Event Calendar 2.0//EN
METHOD:PUBLISH
X-PUBLISHED-TTL:P3D
REFRESH-INTERVAL:P3D
CALSCALE:GREGORIAN
BEGIN:VEVENT
DTSTART:20180923T123000Z
DTEND:20180923T163000Z
X-MICROSOFT-CDO-ALLDAYEVENT:FALSE
SUMMARY:Public bloodmobile drive at Blessed Sacrament Catholic Church
DESCRIPTION:Blessed Sacrament Catholic Church is hosting a Bloodmobile drive on Sunday\, September 23 from 8:30 am to 12:30 pm.  Walk-ins are welcome\, but appointments are encouraged.  To secure your spot\, visit https://donateblood.vablood.org.
X-ALT-DESC;FMTTYPE=text/html:Blessed Sacrament Catholic Church is hosting a Bloodmobile drive on Sunday\, September 23 from 8:30 am to 12:30 pm. &nbsp\;Walk-ins are welcome\, but appointments are encouraged.&nbsp\; To secure your spot\, visit <a href="https://donateblood.vablood.org/">https://donateblood.vablood.org</a>.
LOCATION:Blessed Sacrament Catholic Church 154 North Main Street Harrisonburg VA 22802
UID:e.2338.5955
SEQUENCE:3
DTSTAMP:20260420T104716Z
URL:https://chamber.hrchamber.org/events/details/public-bloodmobile-drive-at-blessed-sacrament-catholic-church-09-23-2018-5955
END:VEVENT

END:VCALENDAR
