BEGIN:VCALENDAR
VERSION:2.0
PRODID:-//ChamberMaster//Event Calendar 2.0//EN
METHOD:PUBLISH
X-PUBLISHED-TTL:P3D
REFRESH-INTERVAL:P3D
CALSCALE:GREGORIAN
BEGIN:VEVENT
DTSTART:20180513T123000Z
DTEND:20180513T160000Z
X-MICROSOFT-CDO-ALLDAYEVENT:FALSE
SUMMARY:Public Bloodmobile Drive at Blessed Sacrament
DESCRIPTION:Blessed Sacrament Catholic Church is hosting a public Bloodmobile drive on Sunday\, May 13 from 8:30 am to 12:00 noon. Walk-ins are welcome\, but appointments are encouraged. To secure your spot\, visit https://donateblood.vablood.org.
X-ALT-DESC;FMTTYPE=text/html:Blessed Sacrament Catholic Church is hosting a public Bloodmobile drive on Sunday\, May 13 from 8:30 am to 12:00 noon. Walk-ins are welcome\, but appointments are encouraged. To secure your spot\, visit https://donateblood.vablood.org.
LOCATION:Blessed Sacrament Catholic Church 154 North Main Street
UID:e.2338.5797
SEQUENCE:3
DTSTAMP:20260420T132730Z
URL:https://chamber.hrchamber.org/events/details/public-bloodmobile-drive-at-blessed-sacrament-5797
END:VEVENT

END:VCALENDAR
