BEGIN:VCALENDAR
VERSION:2.0
PRODID:-//ChamberMaster//Event Calendar 2.0//EN
METHOD:PUBLISH
X-PUBLISHED-TTL:P3D
REFRESH-INTERVAL:P3D
CALSCALE:GREGORIAN
BEGIN:VEVENT
DTSTART:20170809T140000Z
DTEND:20170809T180000Z
X-MICROSOFT-CDO-ALLDAYEVENT:FALSE
SUMMARY:Public Bloodmobile Drive at Bank of the James
DESCRIPTION:Bank of the James on South High Street is hosting a public Bloodmobile drive from 10 am to 2 pm. Free lunch totes for all donors\, while supplies last! Walk-ins are welcome\, but appointments are encouraged. To secure your spot\, visit https://donateblood.vablood.org. Be a summer life-saver   donate blood and help save lives!
X-ALT-DESC;FMTTYPE=text/html:Bank of the James on South High Street is hosting a public Bloodmobile drive from 10 am to 2 pm. Free lunch totes for all donors\, while supplies last! Walk-ins are welcome\, but appointments are encouraged. To secure your spot\, visit https://donateblood.vablood.org. Be a summer life-saver &ndash\; donate blood and help save lives!
LOCATION:Bank of the James 1391 South High Street Harrisonburg
UID:e.2338.3185
SEQUENCE:3
DTSTAMP:20260420T011712Z
URL:https://chamber.hrchamber.org/events/details/public-bloodmobile-drive-at-bank-of-the-james-3185
END:VEVENT

END:VCALENDAR
