BEGIN:VCALENDAR
VERSION:2.0
PRODID:-//ChamberMaster//Event Calendar 2.0//EN
METHOD:PUBLISH
X-PUBLISHED-TTL:P3D
REFRESH-INTERVAL:P3D
CALSCALE:GREGORIAN
BEGIN:VEVENT
DTSTART:20180214T160000Z
DTEND:20180214T200000Z
X-MICROSOFT-CDO-ALLDAYEVENT:FALSE
SUMMARY:Public Blood Drive at VMRC's Cline Community Center
DESCRIPTION:Virginia Mennonite Retirement Community is hosting a public blood drive in Woodland Park's Cline Community Center on Wednesday\, February 14 from 11 am to 3 pm. Walk-ins are welcome\, but appointments are encouraged. To secure your spot\, visit https://donateblood.vablood.org.
X-ALT-DESC;FMTTYPE=text/html:Virginia Mennonite Retirement Community is hosting a public blood drive in Woodland Park&rsquo\;s Cline Community Center on Wednesday\, February 14 from 11 am to 3 pm. Walk-ins are welcome\, but appointments are encouraged. To secure your spot\, visit https://donateblood.vablood.org.
LOCATION:VMRC Woodland Park Cline Community Center
UID:e.2338.3606
SEQUENCE:3
DTSTAMP:20260420T090052Z
URL:https://chamber.hrchamber.org/events/details/public-blood-drive-at-vmrc-s-cline-community-center-3606
END:VEVENT

END:VCALENDAR
