BEGIN:VCALENDAR
VERSION:2.0
PRODID:-//ChamberMaster//Event Calendar 2.0//EN
METHOD:PUBLISH
X-PUBLISHED-TTL:P3D
REFRESH-INTERVAL:P3D
CALSCALE:GREGORIAN
BEGIN:VEVENT
DTSTART:20170812T130000Z
DTEND:20170812T173000Z
X-MICROSOFT-CDO-ALLDAYEVENT:FALSE
SUMMARY:Public Blood Drive at Trinity Presbyterian Church
DESCRIPTION:Trinity Presbyterian Church in Harrisonburg will be hosting a public blood drive on Saturday\, August 12th from 9:00 am to 1:30 pm in the Fellowship Hall. Free lunch totes for all donors\, while supplies last! Walk-ins are welcome\, but appointments are encouraged. To secure your spot\, visit https://donateblood.vablood.org. Be a summer life-saver   donate blood and help save lives!
X-ALT-DESC;FMTTYPE=text/html:Trinity Presbyterian Church in Harrisonburg will be hosting a public blood drive on Saturday\, August 12th from 9:00 am to 1:30 pm in the Fellowship Hall. Free lunch totes for all donors\, while supplies last! Walk-ins are welcome\, but appointments are encouraged. To secure your spot\, visit https://donateblood.vablood.org. Be a summer life-saver &ndash\; donate blood and help save lives!
LOCATION:Trinity Presbyterian Church 725 South High Street Harrisonburg
UID:e.2338.3186
SEQUENCE:3
DTSTAMP:20260419T234648Z
URL:https://chamber.hrchamber.org/events/details/public-blood-drive-at-trinity-presbyterian-church-3186
END:VEVENT

END:VCALENDAR
