BEGIN:VCALENDAR
VERSION:2.0
PRODID:-//ChamberMaster//Event Calendar 2.0//EN
METHOD:PUBLISH
X-PUBLISHED-TTL:P3D
REFRESH-INTERVAL:P3D
CALSCALE:GREGORIAN
BEGIN:VEVENT
DTSTART:20180429T133000Z
DTEND:20180429T163000Z
X-MICROSOFT-CDO-ALLDAYEVENT:FALSE
SUMMARY:Public Blood Drive at Otterbein United Methodist Church
DESCRIPTION:Otterbein United Methodist Church and Community Mennonite Church are co-sponsoring a public blood drive in Otterbein's Fellowship Hall on Sunday\, April 29th from 9:30 am to 12:30 pm. Walk-ins are welcome\, but appointments are encouraged. To secure your spot\, visit https://donateblood.vablood.org.
X-ALT-DESC;FMTTYPE=text/html:Otterbein United Methodist Church and Community Mennonite Church are co-sponsoring a public blood drive in Otterbein&rsquo\;s Fellowship Hall on Sunday\, April 29th from 9:30 am to 12:30 pm. Walk-ins are welcome\, but appointments are encouraged. To secure your spot\, visit https://donateblood.vablood.org.
LOCATION:Otterbein United Methodist Church 176 West Market Street\, Harrisonburg
UID:e.2338.4756
SEQUENCE:3
DTSTAMP:20260420T114247Z
URL:https://chamber.hrchamber.org/events/details/public-blood-drive-at-otterbein-united-methodist-church-4756
END:VEVENT

END:VCALENDAR
