BEGIN:VCALENDAR
VERSION:2.0
PRODID:-//ChamberMaster//Event Calendar 2.0//EN
METHOD:PUBLISH
X-PUBLISHED-TTL:P3D
REFRESH-INTERVAL:P3D
CALSCALE:GREGORIAN
BEGIN:VEVENT
DTSTART:20180920T140000Z
DTEND:20180920T180000Z
X-MICROSOFT-CDO-ALLDAYEVENT:FALSE
SUMMARY:Public blood drive at JMU's Festival
DESCRIPTION:JMU's Human Resources team is hosting a public blood drive in Festival's Highland Room on Thursday\, September 20 from 10 am to 2 pm.  Walk-ins are welcome\, but appointments are encouraged.  To secure your spot\, visit https://donateblood.vablood.org.
X-ALT-DESC;FMTTYPE=text/html:JMU&rsquo\;s Human Resources team is hosting a public blood drive in Festival&rsquo\;s Highland Room on Thursday\, September 20 from 10 am to 2 pm.&nbsp\; Walk-ins are welcome\, but appointments are encouraged.&nbsp\; To secure your spot\, visit <a href="https://donateblood.vablood.org/">https://donateblood.vablood.org</a>.
LOCATION:Festival Center\, Highland Room 1301 Carrier Drive Harrisonburg VA 22807
UID:e.2338.5954
SEQUENCE:3
DTSTAMP:20260420T104717Z
URL:https://chamber.hrchamber.org/events/details/public-blood-drive-at-jmu-s-festival-5954
END:VEVENT

END:VCALENDAR
