BEGIN:VCALENDAR
VERSION:2.0
PRODID:-//ChamberMaster//Event Calendar 2.0//EN
METHOD:PUBLISH
X-PUBLISHED-TTL:P3D
REFRESH-INTERVAL:P3D
CALSCALE:GREGORIAN
BEGIN:VEVENT
DTSTART:20180510T140000Z
DTEND:20180510T183000Z
X-MICROSOFT-CDO-ALLDAYEVENT:FALSE
SUMMARY:Public Blood Drive at JMU's Employee Appreciation Fair
DESCRIPTION:As part of JMU's Employee Appreciation Fair\, there will be a blood drive in Festival's Allegheny Room on Thursday\, May 10 from 10 am to 3 pm. Walk-ins are welcome\, but appointments are encouraged. To secure your spot\, call LaVern Dillard at 540/568-4030.
X-ALT-DESC;FMTTYPE=text/html:As part of JMU&rsquo\;s Employee Appreciation Fair\, there will be a blood drive in Festival&rsquo\;s Allegheny Room on Thursday\, May 10 from 10 am to 3 pm. Walk-ins are welcome\, but appointments are encouraged. To secure your spot\, call LaVern Dillard at 540/568-4030.
LOCATION:JMU Festival Student and Conference Center 1301 Carrier Drive
UID:e.2338.5803
SEQUENCE:3
DTSTAMP:20260420T131817Z
URL:https://chamber.hrchamber.org/events/details/public-blood-drive-at-jmu-s-employee-appreciation-fair-5803
END:VEVENT

END:VCALENDAR
