BEGIN:VCALENDAR
VERSION:2.0
PRODID:-//ChamberMaster//Event Calendar 2.0//EN
METHOD:PUBLISH
X-PUBLISHED-TTL:P3D
REFRESH-INTERVAL:P3D
CALSCALE:GREGORIAN
BEGIN:VEVENT
DTSTART:20180222T160000Z
DTEND:20180222T213000Z
X-MICROSOFT-CDO-ALLDAYEVENT:FALSE
SUMMARY:Public Blood Drive at JMU Madison Union
DESCRIPTION:JMU's Beta Alpha Psi is sponsoring a public blood drive in Madison Union on Thursday\, February 22nd from 11:00 am to 4:00 pm. Walk-ins are welcome\, appointments are encouraged. To secure your spot\, visit https://donateblood.vablood.org.
X-ALT-DESC;FMTTYPE=text/html:JMU&rsquo\;s Beta Alpha Psi is sponsoring a public blood drive in Madison Union on Thursday\, February 22nd from 11:00 am to 4:00 pm. Walk-ins are welcome\, appointments are encouraged. To secure your spot\, visit https://donateblood.vablood.org.
LOCATION:JMU's Madison Union Bluestone Drive\, Room 256
UID:e.2338.3608
SEQUENCE:3
DTSTAMP:20260420T084733Z
URL:https://chamber.hrchamber.org/events/details/public-blood-drive-at-jmu-madison-union-3608
END:VEVENT

END:VCALENDAR
