BEGIN:VCALENDAR
VERSION:2.0
PRODID:-//ChamberMaster//Event Calendar 2.0//EN
METHOD:PUBLISH
X-PUBLISHED-TTL:P3D
REFRESH-INTERVAL:P3D
CALSCALE:GREGORIAN
BEGIN:VEVENT
DTSTART:20180208T180000Z
DTEND:20180208T230000Z
X-MICROSOFT-CDO-ALLDAYEVENT:FALSE
SUMMARY:Public Blood Drive at JMU Festival
DESCRIPTION:JMU's Rotaract Club is hosting a public blood drive at Festival's Highland Room on Thursday\, February 8 from 1 pm to 6 pm. Walk-ins are welcome\, but appointments are encouraged. To secure your spot\, visit https://donateblood.vablood.org.
X-ALT-DESC;FMTTYPE=text/html:JMU&rsquo\;s Rotaract Club is hosting a public blood drive at Festival&rsquo\;s Highland Room on Thursday\, February 8 from 1 pm to 6 pm. Walk-ins are welcome\, but appointments are encouraged. To secure your spot\, visit https://donateblood.vablood.org.
LOCATION:JMU Festival Student and Conference Center
UID:e.2338.3605
SEQUENCE:3
DTSTAMP:20260420T090229Z
URL:https://chamber.hrchamber.org/events/details/public-blood-drive-at-jmu-festival-3605
END:VEVENT

END:VCALENDAR
